BEGIN:VCALENDAR
VERSION:2.0
PRODID:icalendar-ruby
CALSCALE:GREGORIAN
METHOD:PUBLISH
BEGIN:VEVENT
DTSTAMP:20260423T120647Z
UID:83-398975@growingfaith.net
DTSTART;VALUE=DATE:20260426
DTEND;VALUE=DATE:20260426
CLASS:PUBLIC
CREATED:20260422T194041
DESCRIPTION:
LAST-MODIFIED:20260422T194041
LOCATION:
SUMMARY:Wear Blue Sunday
URL;VALUE=URI:https://www.growingfaith.net/events/wear-blue-sunday/2026-04-
 26
ATTACH;FILENAME=blue-sunday-2026.png;FMTTYPE=image/png:https://dq5pwpg1q8ru
 0.cloudfront.net/2026/04/23/00/40/41/542e9dfa-a041-43cb-81bc-351a85110fed/
 blue-sunday-2026.png
END:VEVENT
END:VCALENDAR
